BEGIN:VCALENDAR
VERSION:2.0
PRODID:-//wp-events-plugin.com//7.2.3.1//EN
TZID:Europe/Madrid
X-WR-TIMEZONE:Europe/Madrid
BEGIN:VEVENT
UID:151@dolcetriz.com
DTSTART;TZID=Europe/Madrid:20260214T170000
DTEND;TZID=Europe/Madrid:20260214T200000
DTSTAMP:20260213T102456Z
URL:https://dolcetriz.com/clases/picoteo-fancy/
SUMMARY:Un picoteo que enamora
DESCRIPTION:
ATTACH;FMTTYPE=image/jpeg:https://dolcetriz.com/wp-content/uploads/2026/02
 /Lubina-ahumada-Gemini-e1770401742388.jpg
END:VEVENT
BEGIN:VTIMEZONE
TZID:Europe/Madrid
X-LIC-LOCATION:Europe/Madrid
BEGIN:STANDARD
DTSTART:20251026T020000
TZOFFSETFROM:+0200
TZOFFSETTO:+0100
TZNAME:CET
END:STANDARD
END:VTIMEZONE
END:VCALENDAR