BEGIN:VCALENDAR
VERSION:2.0
PRODID:-//wp-events-plugin.com//7.2.3.1//EN
TZID:Europe/Madrid
X-WR-TIMEZONE:Europe/Madrid
BEGIN:VEVENT
UID:78@dolcetriz.com
DTSTART;TZID=Europe/Madrid:20231124T203000
DTEND;TZID=Europe/Madrid:20231124T233000
DTSTAMP:20231122T191030Z
URL:https://dolcetriz.com/clases/navidad-%c2%b7-pica-pica/
SUMMARY:Navidad · Pica pica
DESCRIPTION:PICA PICA\nFalso txangurro\n\nSaquitos de pato con alcachofas\n
 \nGalletas de queso con chutney de pimientos\n\nTosta de solomillo al rome
 ro con berenjena agridulce\n\nVasitos de lenteja roja con langostino\n\n::
 ::::::::::::::::::::::::::::::::::::::::::::::::::::::::::::\n\nVer toda l
 a información sobre estas clases
ATTACH;FMTTYPE=image/jpeg:https://dolcetriz.com/wp-content/uploads/2020/11
 /galletas-de-queso-e1606481799476.jpg
CATEGORIES:Monográficos
END:VEVENT
BEGIN:VTIMEZONE
TZID:Europe/Madrid
X-LIC-LOCATION:Europe/Madrid
BEGIN:STANDARD
DTSTART:20231029T020000
TZOFFSETFROM:+0200
TZOFFSETTO:+0100
TZNAME:CET
END:STANDARD
END:VTIMEZONE
END:VCALENDAR