BEGIN:VCALENDAR
VERSION:2.0
PRODID:-//wp-events-plugin.com//7.2.3.1//EN
TZID:Europe/Madrid
X-WR-TIMEZONE:Europe/Madrid
BEGIN:VEVENT
UID:157@dolcetriz.com
DTSTART;TZID=Europe/Madrid:20260424T103000
DTEND;TZID=Europe/Madrid:20260424T140000
DTSTAMP:20260419T122320Z
URL:https://dolcetriz.com/clases/minichefs-24-abril/
SUMMARY:Minichefs · 24 abril
DESCRIPTION:\n\n&nbsp\;\n\nAtención\n\nEstamos experimentando algunos prob
 lemas con nuestro sistema de venta.\n\nPor favor\, si no puedes completar 
 tu compra sigue estas instrucciones para asegurar tu plaza:\n· Haz un Biz
 um por el importe correspondiente al 722439347 indicando Minichefs 24 de a
 bril y el número de plazas.\n\n· Envía un WhatsApp al mismo número ind
 icando nombre de la persona que realiza la compra\, nombre y edad del asis
 tente\, posibles alergias o intolerancias (incluidas trazas) y una direcci
 ón de correo electrónico para que te hagamos llegar el ticket de la comp
 ra.\nGracias por tu comprensión.
ATTACH;FMTTYPE=image/jpeg:https://dolcetriz.com/wp-content/uploads/2020/11
 /Logo-Minichefs-con-lunares-scaled-e1605074963700.jpg
CATEGORIES:Minichefs
END:VEVENT
BEGIN:VTIMEZONE
TZID:Europe/Madrid
X-LIC-LOCATION:Europe/Madrid
BEGIN:DAYLIGHT
DTSTART:20260329T030000
TZOFFSETFROM:+0100
TZOFFSETTO:+0200
TZNAME:CEST
END:DAYLIGHT
END:VTIMEZONE
END:VCALENDAR